BEGIN:VCALENDAR
VERSION:2.0
PRODID:-//Perry County Economic Development Authority - ECPv6.15.14//NONSGML v1.0//EN
CALSCALE:GREGORIAN
METHOD:PUBLISH
X-WR-CALNAME:Perry County Economic Development Authority
X-ORIGINAL-URL:https://perrycountyeda.com
X-WR-CALDESC:Events for Perry County Economic Development Authority
REFRESH-INTERVAL;VALUE=DURATION:PT1H
X-Robots-Tag:noindex
X-PUBLISHED-TTL:PT1H
BEGIN:VTIMEZONE
TZID:UTC
BEGIN:STANDARD
TZOFFSETFROM:+0000
TZOFFSETTO:+0000
TZNAME:UTC
DTSTART:20250101T000000
END:STANDARD
END:VTIMEZONE
BEGIN:VEVENT
DTSTART;TZID=UTC:20260422T090000
DTEND;TZID=UTC:20260422T120000
DTSTAMP:20260422T015649
CREATED:20260311T183316Z
LAST-MODIFIED:20260311T183606Z
UID:2842-1776848400-1776859200@perrycountyeda.com
SUMMARY:Digital Marketing Tools for Small Business
DESCRIPTION:Date/Time: \n\n\n\n\n\n\n\n\n\n\nWorkshop \n\n\n4/22/2026 \n\n\n9:00 AM \n\n\n– 10:30 AM (EDT) \n\n\n\n\n\nOffice Hours with SBDC Consultants \n\n\n\n11:00 AM \n\n\n– 12:00 PM (EDT) \n\n\n\n\n\nRegistration Deadline: 4/22/2026 5:00 PM (EDT)\nFee: No Fee \nPoint of Contact: Amber Guerrero\nLocation: 300 BRETZ CT STE 100\, Newport PA 17074-8615 \nTraining Topics: Marketing/Sales\nDescription: \nAttend this workshop for practical strategies to help you attract more customers\, increase visibility\, and grow your business. \nWhat You’ll Learn \n• How to optimize your Google Business Profile\n• Simple ways to use Meta (Facebook/Instagram) ads effectively\n• Practical AI tools to save time and improve marketing\n• Common marketing mistakes small businesses make\n• How to build a stronger local digital presence \nBonus: On-Site Office Hours –  Limited appointment slots available! \nStay after the workshop to meet 1:1 with SBDC consultants about:\n• Marketing strategy\n• Financing & capital\n• Business planning\n• Sales growth\n• Startup questions \nWho Should Attend \n• Existing small business owners\n• Startups and entrepreneurs\n• Home-based businesses\n• Retail\, service\, agricultural\, and manufacturing businesses\n• Anyone looking to improve their marketing results \nThis workshop is presented in partnership with the Perry County Economic Development Authority and Perry County Chamber of Commerce. \nInstructions: \nAttendees should park in the lower lot and enter through the main UPMC entrance. \nThe workshop room is immediately to the left after entering the first set of doors. \nClick Here to Register
URL:https://perrycountyeda.com/event/digital-marketing-tools-for-small-business
LOCATION:PA
END:VEVENT
END:VCALENDAR