BEGIN:VCALENDAR
VERSION:2.0
PRODID:-//Perry County Economic Development Authority - ECPv6.15.14//NONSGML v1.0//EN
CALSCALE:GREGORIAN
METHOD:PUBLISH
X-WR-CALNAME:Perry County Economic Development Authority
X-ORIGINAL-URL:https://perrycountyeda.com
X-WR-CALDESC:Events for Perry County Economic Development Authority
REFRESH-INTERVAL;VALUE=DURATION:PT1H
X-Robots-Tag:noindex
X-PUBLISHED-TTL:PT1H
BEGIN:VTIMEZONE
TZID:UTC
BEGIN:STANDARD
TZOFFSETFROM:+0000
TZOFFSETTO:+0000
TZNAME:UTC
DTSTART:20250101T000000
END:STANDARD
END:VTIMEZONE
BEGIN:VEVENT
DTSTART;TZID=UTC:20260425T090000
DTEND;TZID=UTC:20260425T120000
DTSTAMP:20260425T024931
CREATED:20251209T200419Z
LAST-MODIFIED:20251209T200419Z
UID:2205-1777107600-1777118400@perrycountyeda.com
SUMMARY:Dust Off Duncannon
DESCRIPTION:Roll up your sleeves and join us for Dust Off Duncannon\, a community-wide effort to tidy up\, refresh\, and revitalize our downtown spaces! Together\, we can create a cleaner\, more welcoming environment for residents\, businesses\, and visitors alike.\nWe’ll be picking up litter\, tidying green spaces\, sprucing up sidewalks\, and tackling projects to help our town shine! This is a great chance to make a visible impact\, meet neighbors\, and show pride in our community.
URL:https://perrycountyeda.com/event/dust-off-duncannon
LOCATION:Duncannon\, PA\, Duncannon\, PA\, 17020\, United States
END:VEVENT
END:VCALENDAR